BEGIN:VCALENDAR
VERSION:2.0
PRODID:-//Église Lille Métropole - ECPv6.14.0//NONSGML v1.0//EN
CALSCALE:GREGORIAN
METHOD:PUBLISH
X-ORIGINAL-URL:https://eglise-elm.com
X-WR-CALDESC:Évènements pour Église Lille Métropole
REFRESH-INTERVAL;VALUE=DURATION:PT1H
X-Robots-Tag:noindex
X-PUBLISHED-TTL:PT1H
BEGIN:VTIMEZONE
TZID:Europe/Paris
BEGIN:DAYLIGHT
TZOFFSETFROM:+0100
TZOFFSETTO:+0200
TZNAME:CEST
DTSTART:20250330T010000
END:DAYLIGHT
BEGIN:STANDARD
TZOFFSETFROM:+0200
TZOFFSETTO:+0100
TZNAME:CET
DTSTART:20251026T010000
END:STANDARD
END:VTIMEZONE
BEGIN:VEVENT
DTSTART;TZID=Europe/Paris:20250103T193000
DTEND;TZID=Europe/Paris:20250103T213000
DTSTAMP:20260420T204547
CREATED:20241221T102331Z
LAST-MODIFIED:20241221T102523Z
UID:35036-1735932600-1735939800@eglise-elm.com
SUMMARY:Femmes contemporaines
DESCRIPTION:Soirée de louanges Femmes contemporaines\nRDV pour toutes les femmes de tous les âges le Vendredi 3 janvier à 19h30 à ELM. \nNous allons marquer le début de 2025 avec une soirée adoration toutes ensemble ! Venez nombreuses ! \n  \n 
URL:https://eglise-elm.com/event/femmes-contemporaines-3/
LOCATION:ELM – Grande salle\, 16 avenue du Molinel\, WASQUEHAL\, 59290\, France
ATTACH;FMTTYPE=image/png:https://eglise-elm.com/wp-content/uploads/2023/09/femmes-contemporaines-e1694442493381.png
END:VEVENT
BEGIN:VEVENT
DTSTART;TZID=Europe/Paris:20250105T090000
DTEND;TZID=Europe/Paris:20250105T123000
DTSTAMP:20260420T204547
CREATED:20241221T103928Z
LAST-MODIFIED:20241221T103928Z
UID:35042-1736067600-1736080200@eglise-elm.com
SUMMARY:Deux cultes à 9h et 11h
DESCRIPTION:Cultes à 9h et 11h avec Sainte Cène. \nInscription obligatoire
URL:https://eglise-elm.com/event/deux-cultes-a-9h-et-11h-13/
LOCATION:16 Av. du Molinel\, 16 Avenue du Molinel\, 59290 Wasquehal\, Wasquehal\, 59290\, FR
ATTACH;FMTTYPE=image/jpeg:https://eglise-elm.com/wp-content/uploads/2023/12/lords-supper-1280x857-1.jpg
END:VEVENT
BEGIN:VEVENT
DTSTART;TZID=Europe/Paris:20250110T193000
DTEND;TZID=Europe/Paris:20250110T213000
DTSTAMP:20260420T204547
CREATED:20241221T103011Z
LAST-MODIFIED:20241221T103011Z
UID:35038-1736537400-1736544600@eglise-elm.com
SUMMARY:Soirée ENVOL (Jeunes actifs)
DESCRIPTION:Soirée des jeunes ENVOL \nRentrée 2025 \nRestez connectés sur les réseaux Envol pour plus d’informations
URL:https://eglise-elm.com/event/soiree-envol-jeunes-actifs-6/
LOCATION:16 Av. du Molinel\, 16 Avenue du Molinel\, 59290 Wasquehal\, Wasquehal\, 59290\, FR
ATTACH;FMTTYPE=image/jpeg:https://eglise-elm.com/wp-content/uploads/2024/06/envol.jpg
END:VEVENT
BEGIN:VEVENT
DTSTART;TZID=Europe/Paris:20250111T090000
DTEND;TZID=Europe/Paris:20250111T120000
DTSTAMP:20260420T204547
CREATED:20241221T105624Z
LAST-MODIFIED:20241221T110131Z
UID:35049-1736586000-1736596800@eglise-elm.com
SUMMARY:Parcours de Croissance I
DESCRIPTION:Début de la prochaine session Parcours de Croissance\nTous les 15 jours à partir du samedi 11 janvier\, un cours sur les épîtres du Nouveau Testament (Hébreu\, Jacques\, 1et 2 Pierre jusqu’à Jude). \nDurant ces 6 rencontres de 3 heures certains des thèmes abordés seront : le retour du Seigneur\, Les mises en garde contre les faux enseignants\, Des outils pour approfondir votre vie spirituelle et vos relations avec les autres\, Des perspectives pour mieux comprendre le contexte et le message de chaque épître\, entre autres ! \nL’inscription est nécessaire pour suivre ces cours. Tous les infos sont sur le site de l’église sous l’onglet “Vie de l’église” dans la rubrique “Nos Formations”. \n 
URL:https://eglise-elm.com/event/parcours-de-croissance/
LOCATION:16 Av. du Molinel\, 16 Avenue du Molinel\, 59290 Wasquehal\, Wasquehal\, 59290\, FR
ATTACH;FMTTYPE=image/jpeg:https://eglise-elm.com/wp-content/uploads/2024/12/cours-et-parcours.jpg
END:VEVENT
BEGIN:VEVENT
DTSTART;TZID=Europe/Paris:20250111T140000
DTEND;TZID=Europe/Paris:20250111T180000
DTSTAMP:20260420T204547
CREATED:20241221T111624Z
LAST-MODIFIED:20241221T111850Z
UID:35060-1736604000-1736618400@eglise-elm.com
SUMMARY:Rencontre SCOUTS
DESCRIPTION:Rencontre Flambeaux et Claires Flammes à EVA Samedi 11 janvier à 14h00 \n 
URL:https://eglise-elm.com/event/rencontre-scouts/
LOCATION:EVA\, 57 rue Jules Guesde\, Villeneuve d'Ascq\, Nord\, 59650\, France
ATTACH;FMTTYPE=image/jpeg:https://eglise-elm.com/wp-content/uploads/2024/12/mouvement-des-flambeaux-et-des-claires-flammes-e1734779758300.jpg
END:VEVENT
BEGIN:VEVENT
DTSTART;TZID=Europe/Paris:20250111T173000
DTEND;TZID=Europe/Paris:20250111T193000
DTSTAMP:20260420T204547
CREATED:20241221T110740Z
LAST-MODIFIED:20241221T111000Z
UID:35057-1736616600-1736623800@eglise-elm.com
SUMMARY:Soirée Expansion (Jeunesse) + Squad (11-13 ans)
DESCRIPTION:Rencontre de Jeunes EXPANSION + SQUAD à EVA à Samedi 11 janvier 2025 à 17h30 \n 
URL:https://eglise-elm.com/event/soiree-expansion-jeunesse-6/
LOCATION:EVA\, 57 rue Jules Guesde\, Villeneuve d'Ascq\, Nord\, 59650\, France
ATTACH;FMTTYPE=image/jpeg:https://eglise-elm.com/wp-content/uploads/2024/01/SQuadEXPANSION.jpg
END:VEVENT
BEGIN:VEVENT
DTSTART;TZID=Europe/Paris:20250116T140000
DTEND;TZID=Europe/Paris:20250116T163000
DTSTAMP:20260420T204547
CREATED:20241210T155827Z
LAST-MODIFIED:20241210T155907Z
UID:35008-1737036000-1737045000@eglise-elm.com
SUMMARY:Rencontre des Amandiers
DESCRIPTION:Rencontre des Amandiers (aînés de l’église) à 14h.
URL:https://eglise-elm.com/event/rencontre-des-amandiers-6/
LOCATION:EVA\, 57 rue Jules Guesde\, Villeneuve d'Ascq\, Nord\, 59650\, France
ATTACH;FMTTYPE=image/jpeg:https://eglise-elm.com/wp-content/uploads/2022/09/AmandiersLOGO.jpg
END:VEVENT
BEGIN:VEVENT
DTSTART;TZID=Europe/Paris:20250116T200000
DTEND;TZID=Europe/Paris:20250116T210000
DTSTAMP:20260420T204547
CREATED:20241221T104627Z
LAST-MODIFIED:20250131T165117Z
UID:35044-1737057600-1737061200@eglise-elm.com
SUMMARY:ELM Entrepreneurs
DESCRIPTION:ELM Entrepreneurs\nParcours de croissance leadership et de développement personnel destiné aux chefs d’entreprise et cadres dirigeants qui expérimenteront les principes du leadership selon les enseignements de John Maxwell. Ils découvriront également les avantages du leadership pour leur entreprise. \nLe parcours se décline en 7 séances de 1 heure.\nLa participation se fait sur inscription contre une participation financière. \nLes places sont limitées à 14 pour l’efficacité des échanges lors des sessions. \nLe lien d’inscription est https://www.helloasso.com/associations/vivre-agir-lille-metropole/evenements/parcours-de-croissance-leadership \n 
URL:https://eglise-elm.com/event/elm-entrepreneurs-5/
LOCATION:EVA\, 57 rue Jules Guesde\, Villeneuve d'Ascq\, Nord\, 59650\, France
ATTACH;FMTTYPE=image/png:https://eglise-elm.com/wp-content/uploads/2024/12/Parcours-leadership-ELM-ENT-2025-png.png
END:VEVENT
BEGIN:VEVENT
DTSTART;TZID=Europe/Paris:20250119T090000
DTEND;TZID=Europe/Paris:20250119T110000
DTSTAMP:20260420T204547
CREATED:20241221T114447Z
LAST-MODIFIED:20241221T114447Z
UID:35068-1737277200-1737284400@eglise-elm.com
SUMMARY:Deux Cultes à 9h00 et 11h00
DESCRIPTION:Cultes à 9h00 et à 11h00. \nInscription obligatoire
URL:https://eglise-elm.com/event/deux-cultes-a-9h00-et-11h00/
LOCATION:16 Av. du Molinel\, 16 Avenue du Molinel\, 59290 Wasquehal\, Wasquehal\, 59290\, FR
ATTACH;FMTTYPE=image/jpeg:https://eglise-elm.com/wp-content/uploads/2024/09/CULTE-2.jpg
END:VEVENT
BEGIN:VEVENT
DTSTART;TZID=Europe/Paris:20250119T110000
DTEND;TZID=Europe/Paris:20250119T120000
DTSTAMP:20260420T204547
CREATED:20241221T114016Z
LAST-MODIFIED:20241221T114016Z
UID:35064-1737284400-1737288000@eglise-elm.com
SUMMARY:Préparation au baptême
DESCRIPTION:Début de la prochaine session de préparation au baptême\nSi tu veux te faire baptiser\, tu peux t’inscrire sur le site de l’église\, ou laisser tes coordonnées au point info. \nLa prochaine session commence le dimanche 19 janvier à 11h pendant le culte.
URL:https://eglise-elm.com/event/preparation-au-bapteme/
LOCATION:16 Av. du Molinel\, 16 Avenue du Molinel\, 59290 Wasquehal\, Wasquehal\, 59290\, FR
ATTACH;FMTTYPE=image/jpeg:https://eglise-elm.com/wp-content/uploads/2024/12/bapteme.jpg
END:VEVENT
BEGIN:VEVENT
DTSTART;TZID=Europe/Paris:20250119T160000
DTEND;TZID=Europe/Paris:20250119T190000
DTSTAMP:20260420T204547
CREATED:20241221T105941Z
LAST-MODIFIED:20241221T105941Z
UID:35054-1737302400-1737313200@eglise-elm.com
SUMMARY:Parcours de Croissance II
DESCRIPTION:Début de la deuxième session de cours proposés dans le cadre du Parcours de Croissance\nTous les 15 jours à partir du dimanche 19 janvier\, la deuxième partie du cours sur la gestion émotionnelle selon la Bible. \nL’inscription est nécessaire pour suivre ces cours. Toutes les infos sont sur le site de l’église sous l’onglet “Vie de l’église” dans la rubrique “Nos Formations”.
URL:https://eglise-elm.com/event/parcours-de-croissance-ii/
LOCATION:16 Av. du Molinel\, 16 Avenue du Molinel\, 59290 Wasquehal\, Wasquehal\, 59290\, FR
ATTACH;FMTTYPE=image/jpeg:https://eglise-elm.com/wp-content/uploads/2024/12/cours-et-parcours.jpg
END:VEVENT
BEGIN:VEVENT
DTSTART;TZID=Europe/Paris:20250126T090000
DTEND;TZID=Europe/Paris:20250126T123000
DTSTAMP:20260420T204547
CREATED:20250117T164959Z
LAST-MODIFIED:20250117T165313Z
UID:35092-1737882000-1737894600@eglise-elm.com
SUMMARY:Deux cultes 9h et 11h
DESCRIPTION:Cultes de 9h et 11h \nInscription obligatoire gratuite \n  \nRencontre pour les ados TEENFIRE (14-17 ans). \nJuste après le culte avec déplacement sur EVA pour échange avec le groupe d’EVA. \nLes parents sont invités à récupérer leurs ados à EVA pour 17h45.
URL:https://eglise-elm.com/event/deux-cultes-9h-et-11h-8/
LOCATION:16 Av. du Molinel\, 16 Avenue du Molinel\, 59290 Wasquehal\, Wasquehal\, 59290\, FR
ATTACH;FMTTYPE=image/jpeg:https://eglise-elm.com/wp-content/uploads/2024/08/culte.jpg
END:VEVENT
BEGIN:VEVENT
DTSTART;TZID=Europe/Paris:20250131T200000
DTEND;TZID=Europe/Paris:20250131T220000
DTSTAMP:20260420T204547
CREATED:20250123T141028Z
LAST-MODIFIED:20250123T141028Z
UID:35101-1738353600-1738360800@eglise-elm.com
SUMMARY:Soirée de prière
DESCRIPTION:De 20h à 22h\, venez vivre un moment de louange et de prière.
URL:https://eglise-elm.com/event/soiree-de-priere-15/
LOCATION:16 Av. du Molinel\, 16 Avenue du Molinel\, 59290 Wasquehal\, Wasquehal\, 59290\, FR
ATTACH;FMTTYPE=image/jpeg:https://eglise-elm.com/wp-content/uploads/2024/01/soiree-de-priere-2.jpg
END:VEVENT
END:VCALENDAR