BEGIN:VCALENDAR
VERSION:2.0
PRODID:-//Église Lille Métropole - ECPv6.14.0//NONSGML v1.0//EN
CALSCALE:GREGORIAN
METHOD:PUBLISH
X-ORIGINAL-URL:https://eglise-elm.com
X-WR-CALDESC:Évènements pour Église Lille Métropole
REFRESH-INTERVAL;VALUE=DURATION:PT1H
X-Robots-Tag:noindex
X-PUBLISHED-TTL:PT1H
BEGIN:VTIMEZONE
TZID:Europe/Paris
BEGIN:DAYLIGHT
TZOFFSETFROM:+0100
TZOFFSETTO:+0200
TZNAME:CEST
DTSTART:20240331T010000
END:DAYLIGHT
BEGIN:STANDARD
TZOFFSETFROM:+0200
TZOFFSETTO:+0100
TZNAME:CET
DTSTART:20241027T010000
END:STANDARD
END:VTIMEZONE
BEGIN:VEVENT
DTSTART;TZID=Europe/Paris:20241201T090000
DTEND;TZID=Europe/Paris:20241201T123000
DTSTAMP:20260420T192210
CREATED:20241021T101100Z
LAST-MODIFIED:20241021T101100Z
UID:34898-1733043600-1733056200@eglise-elm.com
SUMMARY:Deux cultes 9h et 11h
DESCRIPTION:Dimanche 1er décembre\, deux cultes avec Sainte Cène. \nInscription obligatoire
URL:https://eglise-elm.com/event/deux-cultes-9h-et-11h-7/
LOCATION:16 Av. du Molinel\, 16 Avenue du Molinel\, 59290 Wasquehal\, Wasquehal\, 59290\, FR
ATTACH;FMTTYPE=image/jpeg:https://eglise-elm.com/wp-content/uploads/2023/12/lords-supper-1280x857-1.jpg
END:VEVENT
BEGIN:VEVENT
DTSTART;TZID=Europe/Paris:20241205T190000
DTEND;TZID=Europe/Paris:20241205T200000
DTSTAMP:20260420T192210
CREATED:20241127T110447Z
LAST-MODIFIED:20241127T110447Z
UID:34967-1733425200-1733428800@eglise-elm.com
SUMMARY:Emission "CARTES SUR TABLE"
DESCRIPTION:A voir sur Youtube à 19h00
URL:https://eglise-elm.com/event/emission-cartes-sur-table-3/
LOCATION:Youtube
ATTACH;FMTTYPE=image/jpeg:https://eglise-elm.com/wp-content/uploads/2024/09/cartes-sur-table.jpg
END:VEVENT
BEGIN:VEVENT
DTSTART;TZID=Europe/Paris:20241206T193000
DTEND;TZID=Europe/Paris:20241206T223000
DTSTAMP:20260420T192210
CREATED:20241127T111346Z
LAST-MODIFIED:20241127T111625Z
UID:34969-1733513400-1733524200@eglise-elm.com
SUMMARY:Soirée FEMME CONTEMPORAINE
DESCRIPTION:Action spéciale Noël\n Voir la page Facebook \nvendredi 6 décembre ! \n\nNoël arrive dans quelques petites semaines et depuis quelques années\, nous aimons nous\ntourner vers les femmes dans le besoin au moment de Noël. Cette année\, nous avons prévu une soirée spéciale pour fêter Noël avec des femmes (certaines avec enfants) sans domicile fixe en partenariat avec une église dans Lille! Nous allons tout apporter (plats salés\, desserts et des cadeaux!) pour ces femmes et leurs enfants et leur donner une belle soirée festive pour marquer cette saison de célébration!\nCette action de Noël aura lieu le vendredi 6 décembre au soir dans Lille et si vous voulez\nparticiper à cette soirée\, il faut simplement s’inscrire par le lien (dans le bio ou ci-dessous)\net participer à une réunion en visio le lundi 2 décembre à 20:30.\n\nNous avons été bénie et nous croyons que nous sommes bénies pour être une source de \nbénédiction en retour! “Souvenons-nous de ce que le Seigneur Jésus lui-même a dit : ‘Il y a plus de bonheur à donner qu’à recevoir.’” Actes 20:35 \nS’inscrire ici
URL:https://eglise-elm.com/event/soiree-femme-contemporaine-7/
LOCATION:16 Av. du Molinel\, 16 Avenue du Molinel\, 59290 Wasquehal\, Wasquehal\, 59290\, FR
ATTACH;FMTTYPE=image/jpeg:https://eglise-elm.com/wp-content/uploads/2024/11/femme-contemporaine-soiree-Noel.jpg
END:VEVENT
BEGIN:VEVENT
DTSTART;TZID=Europe/Paris:20241207T143000
DTEND;TZID=Europe/Paris:20241207T173000
DTSTAMP:20260420T192210
CREATED:20241127T113059Z
LAST-MODIFIED:20241127T113210Z
UID:34974-1733581800-1733592600@eglise-elm.com
SUMMARY:NOËL EN COULEURS
DESCRIPTION:Pour les infos : \nVoir la page Entraide et Partage
URL:https://eglise-elm.com/event/noel-en-couleurs-2/
LOCATION:ELM – Grande salle\, 16 avenue du Molinel\, WASQUEHAL\, 59290\, France
ATTACH;FMTTYPE=image/jpeg:https://eglise-elm.com/wp-content/uploads/2024/11/sl_070522_51290_12.jpg
END:VEVENT
BEGIN:VEVENT
DTSTART;TZID=Europe/Paris:20241212T183000
DTEND;TZID=Europe/Paris:20241212T200000
DTSTAMP:20260420T192210
CREATED:20241210T155423Z
LAST-MODIFIED:20241210T155423Z
UID:35006-1734028200-1734033600@eglise-elm.com
SUMMARY:Rencontre ELM Entrepreneurs
DESCRIPTION:Rencontre ELM Entrepreneurs sous forme de table ronde\nLe thème est “L’impact du leadership sur la croissance de l’entreprise”. Les discussions seront conduites par Catherine NICOLAS\, speaker et coach d’entrepreneurs. Retrouvez les liens d’inscription à l’évènement sur sur la page Facebook et la rubrique agenda sur le site web de l’église. \n  \n 
URL:https://eglise-elm.com/event/rencontre-elm-entrepreneurs/
LOCATION:EVA\, 57 rue Jules Guesde\, Villeneuve d'Ascq\, Nord\, 59650\, France
ATTACH;FMTTYPE=image/jpeg:https://eglise-elm.com/wp-content/uploads/2023/09/ELM-Entrepreneurs-Logo-Site-Web.jpg
END:VEVENT
BEGIN:VEVENT
DTSTART;TZID=Europe/Paris:20241222T090000
DTEND;TZID=Europe/Paris:20241222T163000
DTSTAMP:20260420T192210
CREATED:20241210T160740Z
LAST-MODIFIED:20241210T161325Z
UID:35011-1734858000-1734885000@eglise-elm.com
SUMMARY:Cultes de Noël
DESCRIPTION:La Promesse de Noël\nTrois cultes de Noël à 9h00\, 11h30 et 16h30\npour nos célébrations de Noël – Inscriptions possibles dès le dimanche 1er décembre. \n  \n 
URL:https://eglise-elm.com/event/culte-de-noel/
LOCATION:16 Av. du Molinel\, 16 Avenue du Molinel\, 59290 Wasquehal\, Wasquehal\, 59290\, FR
ATTACH;FMTTYPE=image/jpeg:https://eglise-elm.com/wp-content/uploads/2024/12/cultes-de-Noel-2024.jpg
END:VEVENT
BEGIN:VEVENT
DTSTART;TZID=Europe/Paris:20241229T090000
DTEND;TZID=Europe/Paris:20241229T123000
DTSTAMP:20260420T192210
CREATED:20241210T162051Z
LAST-MODIFIED:20241221T101145Z
UID:35017-1735462800-1735475400@eglise-elm.com
SUMMARY:Cultes de fin d'année 2024
DESCRIPTION:Deux cultes à 9h et 11h \nInscription obligatoire ici
URL:https://eglise-elm.com/event/cultes-de-fin-dannee-2024/
LOCATION:16 Av. du Molinel\, 16 Avenue du Molinel\, 59290 Wasquehal\, Wasquehal\, 59290\, FR
ATTACH;FMTTYPE=image/png:https://eglise-elm.com/wp-content/uploads/2024/12/bonne-annee-2025.png
END:VEVENT
END:VCALENDAR