BEGIN:VCALENDAR
VERSION:2.0
PRODID:-//Église Lille Métropole - ECPv6.14.0//NONSGML v1.0//EN
CALSCALE:GREGORIAN
METHOD:PUBLISH
X-WR-CALNAME:Église Lille Métropole
X-ORIGINAL-URL:https://eglise-elm.com
X-WR-CALDESC:Évènements pour Église Lille Métropole
REFRESH-INTERVAL;VALUE=DURATION:PT1H
X-Robots-Tag:noindex
X-PUBLISHED-TTL:PT1H
BEGIN:VTIMEZONE
TZID:Europe/Paris
BEGIN:DAYLIGHT
TZOFFSETFROM:+0100
TZOFFSETTO:+0200
TZNAME:CEST
DTSTART:20240331T010000
END:DAYLIGHT
BEGIN:STANDARD
TZOFFSETFROM:+0200
TZOFFSETTO:+0100
TZNAME:CET
DTSTART:20241027T010000
END:STANDARD
END:VTIMEZONE
BEGIN:VEVENT
DTSTART;TZID=Europe/Paris:20241102T173000
DTEND;TZID=Europe/Paris:20241102T193000
DTSTAMP:20260420T175813
CREATED:20241021T083837Z
LAST-MODIFIED:20241021T083837Z
UID:34851-1730568600-1730575800@eglise-elm.com
SUMMARY:EXPANSION et SQUAD
DESCRIPTION:Soirée EXPANSION (18 ans et +) et SQUAD (pré-ados 11-13 ans) à EVA 17h30.
URL:https://eglise-elm.com/event/expansion-et-squad/
LOCATION:EVA\, 57 rue Jules Guesde\, Villeneuve d'Ascq\, Nord\, 59650\, France
ATTACH;FMTTYPE=image/jpeg:https://eglise-elm.com/wp-content/uploads/2024/01/SQuadEXPANSION.jpg
END:VEVENT
BEGIN:VEVENT
DTSTART;TZID=Europe/Paris:20241103T090000
DTEND;TZID=Europe/Paris:20241103T123000
DTSTAMP:20260420T175813
CREATED:20241021T084203Z
LAST-MODIFIED:20241021T084203Z
UID:34853-1730624400-1730637000@eglise-elm.com
SUMMARY:Deux cultes 9h et 11h
DESCRIPTION:Dimanche 3 novembre\, deux cultes à 9h et 11h avec Sainte Cène. \nInscription obligatoire.
URL:https://eglise-elm.com/event/deux-cultes-9h-et-11h-6/
LOCATION:16 Av. du Molinel\, 16 Avenue du Molinel\, 59290 Wasquehal\, Wasquehal\, 59290\, FR
ATTACH;FMTTYPE=image/jpeg:https://eglise-elm.com/wp-content/uploads/2023/12/lords-supper-1280x857-1.jpg
END:VEVENT
BEGIN:VEVENT
DTSTART;TZID=Europe/Paris:20241108T193000
DTEND;TZID=Europe/Paris:20241108T210000
DTSTAMP:20260420T175813
CREATED:20241021T084642Z
LAST-MODIFIED:20241021T084642Z
UID:34855-1731094200-1731099600@eglise-elm.com
SUMMARY:ENVOL Jeunesse
DESCRIPTION:Soirée ENVOL (jeunes actifs)\, vendredi 8 novembre à 19h30
URL:https://eglise-elm.com/event/envol-jeunesse/
LOCATION:16 Av. du Molinel\, 16 Avenue du Molinel\, 59290 Wasquehal\, Wasquehal\, 59290\, FR
ATTACH;FMTTYPE=image/jpeg:https://eglise-elm.com/wp-content/uploads/2024/06/envol.jpg
END:VEVENT
BEGIN:VEVENT
DTSTART;TZID=Europe/Paris:20241109T100000
DTEND;TZID=Europe/Paris:20241109T120000
DTSTAMP:20260420T175813
CREATED:20241021T092137Z
LAST-MODIFIED:20241021T092547Z
UID:34865-1731146400-1731153600@eglise-elm.com
SUMMARY:FORMATION "DÉFI FINANCIER"
DESCRIPTION:A partir du samedi 9 novembre de 10h à 12 h (quatre samedis). \ninfos sur le site ELM.
URL:https://eglise-elm.com/event/formations/
LOCATION:16 Av. du Molinel\, 16 Avenue du Molinel\, 59290 Wasquehal\, Wasquehal\, 59290\, FR
ATTACH;FMTTYPE=image/jpeg:https://eglise-elm.com/wp-content/uploads/2024/10/ELM-FORMATIONS.jpg
END:VEVENT
BEGIN:VEVENT
DTSTART;TZID=Europe/Paris:20241109T100000
DTEND;TZID=Europe/Paris:20241109T160000
DTSTAMP:20260420T175813
CREATED:20241021T090804Z
LAST-MODIFIED:20241021T091417Z
UID:34857-1731146400-1731168000@eglise-elm.com
SUMMARY:Réunion régionale des femmes
DESCRIPTION:Rencontre à l’église EKKLESIA à Amiens.
URL:https://eglise-elm.com/event/reunion-regionale-des-femmes/
LOCATION:AMIENS
ATTACH;FMTTYPE=image/png:https://eglise-elm.com/wp-content/uploads/2023/09/femmes-contemporaines-e1694442493381.png
END:VEVENT
BEGIN:VEVENT
DTSTART;TZID=Europe/Paris:20241110T090000
DTEND;TZID=Europe/Paris:20241110T123000
DTSTAMP:20260420T175813
CREATED:20241021T092853Z
LAST-MODIFIED:20241021T093000Z
UID:34871-1731229200-1731241800@eglise-elm.com
SUMMARY:Deux cultes 9h et 11h avec baptêmes
DESCRIPTION:Inscription obligatoire \nRencontre Teenfire à 11h00.
URL:https://eglise-elm.com/event/deux-cultes-9h-et-11h-avec-baptemes/
LOCATION:16 Av. du Molinel\, 16 Avenue du Molinel\, 59290 Wasquehal\, Wasquehal\, 59290\, FR
ATTACH;FMTTYPE=image/png:https://eglise-elm.com/wp-content/uploads/2024/06/baptemes-2-cultes.png
END:VEVENT
BEGIN:VEVENT
DTSTART;TZID=Europe/Paris:20241117T090000
DTEND;TZID=Europe/Paris:20241117T123000
DTSTAMP:20260420T175813
CREATED:20241021T093821Z
LAST-MODIFIED:20241021T094336Z
UID:34874-1731834000-1731846600@eglise-elm.com
SUMMARY:Deux cultes à 9h et 11h avec baptêmes
DESCRIPTION:Deux cultes avec Kevin MILLER. \n \n  \nInscription obligatoire
URL:https://eglise-elm.com/event/deux-cultes-a-9h-et-11h-avec-baptemes/
LOCATION:16 Av. du Molinel\, 16 Avenue du Molinel\, 59290 Wasquehal\, Wasquehal\, 59290\, FR
ATTACH;FMTTYPE=image/jpeg:https://eglise-elm.com/wp-content/uploads/2024/10/KEVIN-MILLER-1.jpg
END:VEVENT
BEGIN:VEVENT
DTSTART;TZID=Europe/Paris:20241121T140000
DTEND;TZID=Europe/Paris:20241121T170000
DTSTAMP:20260420T175813
CREATED:20241021T094703Z
LAST-MODIFIED:20241021T094745Z
UID:34883-1732197600-1732208400@eglise-elm.com
SUMMARY:AMANDIERS (aînés)
DESCRIPTION:Rencontre du Jeudi 21 novembre à 14h00 à EVA.
URL:https://eglise-elm.com/event/rencontre-des-amandiers-5/
LOCATION:EVA\, 57 rue Jules Guesde\, Villeneuve d'Ascq\, Nord\, 59650\, France
ATTACH;FMTTYPE=image/jpeg:https://eglise-elm.com/wp-content/uploads/2022/09/AmandiersLOGO.jpg
END:VEVENT
BEGIN:VEVENT
DTSTART;TZID=Europe/Paris:20241124T090000
DTEND;TZID=Europe/Paris:20241124T123000
DTSTAMP:20260420T175813
CREATED:20241021T095145Z
LAST-MODIFIED:20241021T095250Z
UID:34886-1732438800-1732451400@eglise-elm.com
SUMMARY:Deux cultes à 9h et 11h
DESCRIPTION:Dimanche 24 novembre\, deux cultes à 9h et 11h. \nInscription obligatoire \nRencontre TEENFIRE à 10h30
URL:https://eglise-elm.com/event/deux-cultes-a-9h-et-11h-12/
LOCATION:16 Av. du Molinel\, 16 Avenue du Molinel\, 59290 Wasquehal\, Wasquehal\, 59290\, FR
ATTACH;FMTTYPE=image/png:https://eglise-elm.com/wp-content/uploads/2024/09/culte-3.png
END:VEVENT
BEGIN:VEVENT
DTSTART;TZID=Europe/Paris:20241129T200000
DTEND;TZID=Europe/Paris:20241129T220000
DTSTAMP:20260420T175813
CREATED:20241021T095602Z
LAST-MODIFIED:20241021T095928Z
UID:34888-1732910400-1732917600@eglise-elm.com
SUMMARY:Soirée de PRIÈRE
DESCRIPTION:Vendredi 29 novembre à 20h.
URL:https://eglise-elm.com/event/soiree-de-priere-14/
LOCATION:16 Av. du Molinel\, 16 Avenue du Molinel\, 59290 Wasquehal\, Wasquehal\, 59290\, FR
ATTACH;FMTTYPE=image/jpeg:https://eglise-elm.com/wp-content/uploads/2024/10/soiree-de-priere.jpg
END:VEVENT
BEGIN:VEVENT
DTSTART;TZID=Europe/Paris:20241130T173000
DTEND;TZID=Europe/Paris:20241130T193000
DTSTAMP:20260420T175813
CREATED:20241021T100650Z
LAST-MODIFIED:20241127T110124Z
UID:34893-1732987800-1732995000@eglise-elm.com
SUMMARY:EXPANSION Soirée de Noël
DESCRIPTION:EXPANSION \nYoutube
URL:https://eglise-elm.com/event/expansion-soiree-de-noel/
LOCATION:EVA\, 57 rue Jules Guesde\, Villeneuve d'Ascq\, Nord\, 59650\, France
ATTACH;FMTTYPE=image/png:https://eglise-elm.com/wp-content/uploads/2024/10/Expansion1080.png
END:VEVENT
END:VCALENDAR