BEGIN:VCALENDAR
VERSION:2.0
PRODID:-//Église Lille Métropole - ECPv6.14.0//NONSGML v1.0//EN
CALSCALE:GREGORIAN
METHOD:PUBLISH
X-WR-CALNAME:Église Lille Métropole
X-ORIGINAL-URL:https://eglise-elm.com
X-WR-CALDESC:Évènements pour Église Lille Métropole
REFRESH-INTERVAL;VALUE=DURATION:PT1H
X-Robots-Tag:noindex
X-PUBLISHED-TTL:PT1H
BEGIN:VTIMEZONE
TZID:Europe/Paris
BEGIN:DAYLIGHT
TZOFFSETFROM:+0100
TZOFFSETTO:+0200
TZNAME:CEST
DTSTART:20240331T010000
END:DAYLIGHT
BEGIN:STANDARD
TZOFFSETFROM:+0200
TZOFFSETTO:+0100
TZNAME:CET
DTSTART:20241027T010000
END:STANDARD
END:VTIMEZONE
BEGIN:VEVENT
DTSTART;TZID=Europe/Paris:20240329T190000
DTEND;TZID=Europe/Paris:20240401T200000
DTSTAMP:20260424T141726
CREATED:20240324T175315Z
LAST-MODIFIED:20240324T180259Z
UID:34308-1711738800-1712001600@eglise-elm.com
SUMMARY:Réserve ton Week-End de Pâques
DESCRIPTION:Pour ce week-end de Pâques\, une série d’émissions vous sont proposées par ELM : \n\nVendredi 29 : Diffusion de la vidéo spéciale Pâques pour les maisons (profitez de ce temps pour partager votre repas vendredi soir en famille ou avec votre groupe de maison !)\nSamedi 30 : Diffusion de la vidéo émission spéciale Pâques\nDimanche 31 : Cultes de Pâques (avec Cène)\nLundi 1 : Diffusion Vidéo louange.
URL:https://eglise-elm.com/event/reserve-ton-week-end-de-paques/
ATTACH;FMTTYPE=image/jpeg:https://eglise-elm.com/wp-content/uploads/2024/03/original_3677ff76-1f38-4ce2-84ae-9e8736be39a2_Screenshot_20240324-182728_Facebook.jpg
END:VEVENT
BEGIN:VEVENT
DTSTART;TZID=Europe/Paris:20240405T193000
DTEND;TZID=Europe/Paris:20240405T220000
DTSTAMP:20260424T141726
CREATED:20240324T180717Z
LAST-MODIFIED:20240324T182701Z
UID:34315-1712345400-1712354400@eglise-elm.com
SUMMARY:Femme Contemporaine
DESCRIPTION:Soirée de louange \nhttps://www.facebook.com/femmes.comtemporaines.3/videos/954061789463592
URL:https://eglise-elm.com/event/femmes-contemporaines-2/
LOCATION:16 Av. du Molinel\, 16 Avenue du Molinel\, 59290 Wasquehal\, Wasquehal\, 59290\, FR
ATTACH;FMTTYPE=image/png:https://eglise-elm.com/wp-content/uploads/2023/09/femmes-contemporaines-e1694442493381.png
END:VEVENT
BEGIN:VEVENT
DTSTART;TZID=Europe/Paris:20240407T090000
DTEND;TZID=Europe/Paris:20240407T123000
DTSTAMP:20260424T141726
CREATED:20240324T185410Z
LAST-MODIFIED:20240324T185410Z
UID:34333-1712480400-1712493000@eglise-elm.com
SUMMARY:Deux Cultes 9h et 11h
DESCRIPTION:Inscription obligatoire ICI
URL:https://eglise-elm.com/event/deux-cultes-9h-et-11h-2/
LOCATION:16 Av. du Molinel\, 16 Avenue du Molinel\, 59290 Wasquehal\, Wasquehal\, 59290\, FR
ATTACH;FMTTYPE=image/png:https://eglise-elm.com/wp-content/uploads/2023/11/Capture-culte.png
END:VEVENT
BEGIN:VEVENT
DTSTART;TZID=Europe/Paris:20240411T200000
DTEND;TZID=Europe/Paris:20240411T210000
DTSTAMP:20260424T141726
CREATED:20240324T183401Z
LAST-MODIFIED:20240410T195417Z
UID:34323-1712865600-1712869200@eglise-elm.com
SUMMARY:Pas d'émission ELM en Questions en Avril
DESCRIPTION:Les émissions du jeudi soir n’auront pas lieu en avril. \nMerci pour votre compréhension !
URL:https://eglise-elm.com/event/reprise-elm-en-questions/
LOCATION:Youtube
ATTACH;FMTTYPE=image/jpeg:https://eglise-elm.com/wp-content/uploads/2024/01/elm-en-questions.jpg
END:VEVENT
BEGIN:VEVENT
DTSTART;TZID=Europe/Paris:20240412T193000
DTEND;TZID=Europe/Paris:20240412T213000
DTSTAMP:20260424T141726
CREATED:20240324T184108Z
LAST-MODIFIED:20240410T200536Z
UID:34325-1712950200-1712957400@eglise-elm.com
SUMMARY:Soirée Envol
DESCRIPTION:Soirée Envol AFTER WORK à 19h30\nInfos sur l’instagram d’ENVOL : https://www.instagram.com/e.n.v.o.l/ \n 
URL:https://eglise-elm.com/event/soiree-envol-4/
LOCATION:Hall U Need
ATTACH;FMTTYPE=image/jpeg:https://eglise-elm.com/wp-content/uploads/2022/09/Logo-ENVOL2.jpeg
END:VEVENT
BEGIN:VEVENT
DTSTART;TZID=Europe/Paris:20240413T150000
DTEND;TZID=Europe/Paris:20240413T170000
DTSTAMP:20260424T141726
CREATED:20240324T185720Z
LAST-MODIFIED:20240324T190154Z
UID:34335-1713020400-1713027600@eglise-elm.com
SUMMARY:Formation Leadership
DESCRIPTION:Samedi 13 avril à 15 heures à ELM.
URL:https://eglise-elm.com/event/formation-leadership/
LOCATION:16 Av. du Molinel\, 16 Avenue du Molinel\, 59290 Wasquehal\, Wasquehal\, 59290\, FR
ATTACH;FMTTYPE=image/jpeg:https://eglise-elm.com/wp-content/uploads/2023/10/management-1.jpg
END:VEVENT
BEGIN:VEVENT
DTSTART;TZID=Europe/Paris:20240413T193000
DTEND;TZID=Europe/Paris:20240413T220000
DTSTAMP:20260424T141726
CREATED:20240222T104456Z
LAST-MODIFIED:20240226T175712Z
UID:34247-1713036600-1713045600@eglise-elm.com
SUMMARY:Soirée ELM Entrepreneurs
DESCRIPTION:Samedi 13 Avril 2024 de 19h30 à 22h à l’Eglise Lille Métropole à Wasquehal.\nSoirée ELM Entrepreneurs\navec  notre invitée\, Simone MENEZES\, Chefe d’Orchestre Internationale\, Lauréate 2023 au “100 Femmes de culture”.\nThématique de l’intervention :  “Avoir une vision claire  pour son Entreprise en accord avec  la volonté de DIEU” . \nCet évènement est ouvert aux entrepreneurs actifs ou non\, aux dirigeants et aux cadres. Vous pouvez  venir accompagné et faire passer l’invitation aux personnes intéressées.\nEntrée gratuite et sans inscription préalable.
URL:https://eglise-elm.com/event/soiree-elm-entrepreneurs/
LOCATION:16 Av. du Molinel\, 16 Avenue du Molinel\, 59290 Wasquehal\, Wasquehal\, 59290\, FR
ATTACH;FMTTYPE=image/png:https://eglise-elm.com/wp-content/uploads/2024/02/simone-n°-2.png
END:VEVENT
BEGIN:VEVENT
DTSTART;TZID=Europe/Paris:20240414T090000
DTEND;TZID=Europe/Paris:20240414T123000
DTSTAMP:20260424T141726
CREATED:20240324T190446Z
LAST-MODIFIED:20240324T190446Z
UID:34338-1713085200-1713097800@eglise-elm.com
SUMMARY:Deux Cultes à 9h et 11h
DESCRIPTION:Dimanche 14 avril deux cultes à 9h et à 11h. \nInscription obligatoire ICI
URL:https://eglise-elm.com/event/deux-cultes-a-9h-et-11h-2/
LOCATION:16 Av. du Molinel\, 16 Avenue du Molinel\, 59290 Wasquehal\, Wasquehal\, 59290\, FR
ATTACH;FMTTYPE=image/jpeg:https://eglise-elm.com/wp-content/uploads/2023/10/culte.jpg
END:VEVENT
BEGIN:VEVENT
DTSTART;TZID=Europe/Paris:20240420T173000
DTEND;TZID=Europe/Paris:20240420T193000
DTSTAMP:20260424T141726
CREATED:20240324T193222Z
LAST-MODIFIED:20240324T193222Z
UID:34348-1713634200-1713641400@eglise-elm.com
SUMMARY:Rencontre Expansion + Squad
DESCRIPTION:Inscris-toi à la soirée Expansion + Squad \nqui aura lieu le Samedi 20 avril à 17h30 à EVA\, 57 rue Jules Guesde à Villeneuve d’Ascq. \n 
URL:https://eglise-elm.com/event/rencontre-expansion-squad/
ATTACH;FMTTYPE=image/jpeg:https://eglise-elm.com/wp-content/uploads/2024/01/SQuadEXPANSION.jpg
END:VEVENT
BEGIN:VEVENT
DTSTART;TZID=Europe/Paris:20240421T090000
DTEND;TZID=Europe/Paris:20240421T123000
DTSTAMP:20260424T141726
CREATED:20240324T192135Z
LAST-MODIFIED:20240324T192135Z
UID:34346-1713690000-1713702600@eglise-elm.com
SUMMARY:Deux Cultes à 9h et 11h
DESCRIPTION:Dimanche 21 \nDeux Cultes à 9h et 11h. \nInscription obligatoire ICI
URL:https://eglise-elm.com/event/deux-cultes-a-9h-et-11h-4/
LOCATION:16 Av. du Molinel\, 16 Avenue du Molinel\, 59290 Wasquehal\, Wasquehal\, 59290\, FR
ATTACH;FMTTYPE=image/jpeg:https://eglise-elm.com/wp-content/uploads/2020/03/eglise-elm-accueil-sermons-scaled.jpg
END:VEVENT
BEGIN:VEVENT
DTSTART;TZID=Europe/Paris:20240426T200000
DTEND;TZID=Europe/Paris:20240426T220000
DTSTAMP:20260424T141726
CREATED:20240324T194543Z
LAST-MODIFIED:20240324T194543Z
UID:34354-1714161600-1714168800@eglise-elm.com
SUMMARY:Soirée de Prière
DESCRIPTION:Vendredi 26 avril à 20h00 \nSoirée de Prière
URL:https://eglise-elm.com/event/soiree-de-priere-11/
LOCATION:16 Av. du Molinel\, 16 Avenue du Molinel\, 59290 Wasquehal\, Wasquehal\, 59290\, FR
ATTACH;FMTTYPE=image/jpeg:https://eglise-elm.com/wp-content/uploads/2024/01/soiree-de-priere-2.jpg
END:VEVENT
BEGIN:VEVENT
DTSTART;TZID=Europe/Paris:20240428T090000
DTEND;TZID=Europe/Paris:20240428T130000
DTSTAMP:20260424T141726
CREATED:20240409T101130Z
LAST-MODIFIED:20240409T101130Z
UID:34374-1714294800-1714309200@eglise-elm.com
SUMMARY:Deux cultes
DESCRIPTION:Deux cultes à 9hh et 11h \nInscription obligatoire ici
URL:https://eglise-elm.com/event/deux-cultes/
LOCATION:16 Av. du Molinel\, 16 Avenue du Molinel\, 59290 Wasquehal\, Wasquehal\, 59290\, FR
ATTACH;FMTTYPE=image/png:https://eglise-elm.com/wp-content/uploads/2024/02/inscription_cultes2.png
END:VEVENT
END:VCALENDAR