BEGIN:VCALENDAR
VERSION:2.0
PRODID:-//Église Lille Métropole - ECPv6.14.0//NONSGML v1.0//EN
CALSCALE:GREGORIAN
METHOD:PUBLISH
X-WR-CALNAME:Église Lille Métropole
X-ORIGINAL-URL:https://eglise-elm.com
X-WR-CALDESC:Évènements pour Église Lille Métropole
REFRESH-INTERVAL;VALUE=DURATION:PT1H
X-Robots-Tag:noindex
X-PUBLISHED-TTL:PT1H
BEGIN:VTIMEZONE
TZID:Europe/Paris
BEGIN:DAYLIGHT
TZOFFSETFROM:+0100
TZOFFSETTO:+0200
TZNAME:CEST
DTSTART:20230326T010000
END:DAYLIGHT
BEGIN:STANDARD
TZOFFSETFROM:+0200
TZOFFSETTO:+0100
TZNAME:CET
DTSTART:20231029T010000
END:STANDARD
END:VTIMEZONE
BEGIN:VEVENT
DTSTART;TZID=Europe/Paris:20231104T090000
DTEND;TZID=Europe/Paris:20231104T123000
DTSTAMP:20260425T012925
CREATED:20231021T155438Z
LAST-MODIFIED:20231024T140142Z
UID:33501-1699088400-1699101000@eglise-elm.com
SUMMARY:Formation biblique : Romains
DESCRIPTION:ELM Campus\nFormation biblique : Romains\navec Sonja HANKE (Salle ados). \nCes cours sont proposés grâce au partenariat avec institut biblique CTS de Bruxelles. \n 
URL:https://eglise-elm.com/event/formation-biblique-romains/
LOCATION:ELM Grand bureau\, 16 Avenue du Molinel\, Wasquehal\, 59290\, France
ATTACH;FMTTYPE=image/jpeg:https://eglise-elm.com/wp-content/uploads/2021/08/ELMCAMPUS.jpg
END:VEVENT
BEGIN:VEVENT
DTSTART;TZID=Europe/Paris:20231104T173000
DTEND;TZID=Europe/Paris:20231104T193000
DTSTAMP:20260425T012925
CREATED:20231021T160814Z
LAST-MODIFIED:20231021T161602Z
UID:33504-1699119000-1699126200@eglise-elm.com
SUMMARY:Soirée Squad / Expansion
DESCRIPTION:
URL:https://eglise-elm.com/event/soiree-expansion-squad/
LOCATION:ELM – Grande salle\, 16 avenue du Molinel\, WASQUEHAL\, 59290\, France
ATTACH;FMTTYPE=image/jpeg:https://eglise-elm.com/wp-content/uploads/2023/10/SQuadEXPANSION.jpg
END:VEVENT
BEGIN:VEVENT
DTSTART;TZID=Europe/Paris:20231105T100000
DTEND;TZID=Europe/Paris:20231105T123000
DTSTAMP:20260425T012925
CREATED:20231021T162200Z
LAST-MODIFIED:20231024T140450Z
UID:33511-1699178400-1699187400@eglise-elm.com
SUMMARY:Culte du dimanche
DESCRIPTION:à 10h Culte avec Gabriel ALONSO.
URL:https://eglise-elm.com/event/culte-du-dimanche-3/
LOCATION:ELM – Grande salle\, 16 avenue du Molinel\, WASQUEHAL\, 59290\, France
ATTACH;FMTTYPE=image/jpeg:https://eglise-elm.com/wp-content/uploads/2023/10/MicrosoftTeams-image.jpg
END:VEVENT
BEGIN:VEVENT
DTSTART;TZID=Europe/Paris:20231109T200000
DTEND;TZID=Europe/Paris:20231109T210000
DTSTAMP:20260425T012925
CREATED:20231021T162539Z
LAST-MODIFIED:20231021T162539Z
UID:33517-1699560000-1699563600@eglise-elm.com
SUMMARY:ELM en questions
DESCRIPTION:Reprise de la diffusion de l’émission « ELM en questions » à 20h
URL:https://eglise-elm.com/event/elm-en-questions-3/
LOCATION:Youtube
ATTACH;FMTTYPE=image/jpeg:https://eglise-elm.com/wp-content/uploads/2022/09/LOGO-2022-ELMQ-V2.jpg
END:VEVENT
BEGIN:VEVENT
DTSTART;TZID=Europe/Paris:20231110T193000
DTEND;TZID=Europe/Paris:20231110T210000
DTSTAMP:20260425T012925
CREATED:20231021T162912Z
LAST-MODIFIED:20231021T162912Z
UID:33520-1699644600-1699650000@eglise-elm.com
SUMMARY:Soirée Envol
DESCRIPTION:
URL:https://eglise-elm.com/event/soiree-envol/
LOCATION:ELM – Grande salle\, 16 avenue du Molinel\, WASQUEHAL\, 59290\, France
ATTACH;FMTTYPE=image/jpeg:https://eglise-elm.com/wp-content/uploads/2022/09/Logo-ENVOL2.jpeg
END:VEVENT
BEGIN:VEVENT
DTSTART;TZID=Europe/Paris:20231112T090000
DTEND;TZID=Europe/Paris:20231112T123000
DTSTAMP:20260425T012925
CREATED:20231021T164824Z
LAST-MODIFIED:20231103T153155Z
UID:33530-1699779600-1699792200@eglise-elm.com
SUMMARY:Deux cultes de baptêmes ce dimanche 12 Novembre
DESCRIPTION:Deux cultes de baptêmes à 9h et à 11h.\nExceptionnellement\, deux cultes (9h et à 11h) sont organisés le dimanche 12 novembre. En effet\, avec plus de 35 baptisés\, c’est la seule façon que l’église vive ce moment fort dans la vie de chaque chrétien. C’est aussi une occasion pour découvrir ce que Dieu fait aujourd’hui.\n\nNoter qu’ELM tribus (pôle enfance – sur inscription) et les Teenfire (ados) vous accueillent uniquement lors du culte de 11h.\n\nProchaines sessions de baptême en mars 2024.\nInscription possible dès aujourd’hui en ligne 
URL:https://eglise-elm.com/event/culte-dimanche/
LOCATION:ELM – Grande salle\, 16 avenue du Molinel\, WASQUEHAL\, 59290\, France
ATTACH;FMTTYPE=image/png:https://eglise-elm.com/wp-content/uploads/2023/10/20231112-Cultes-baptemes-9h-et-11h-Publication-Instagram.png
END:VEVENT
BEGIN:VEVENT
DTSTART;TZID=Europe/Paris:20231112T160000
DTEND;TZID=Europe/Paris:20231112T190000
DTSTAMP:20260425T012925
CREATED:20231021T170006Z
LAST-MODIFIED:20231024T141225Z
UID:33537-1699804800-1699815600@eglise-elm.com
SUMMARY:Formation biblique Apocalypse
DESCRIPTION:ELM Campus\nFormation biblique : Apocalypse\navec Ralf LUBS \nCes cours sont proposés grâce au partenariat avec institut biblique CTS de Bruxelles.
URL:https://eglise-elm.com/event/formation-apocalypse/
LOCATION:ELM Grand bureau\, 16 Avenue du Molinel\, Wasquehal\, 59290\, France
ATTACH;FMTTYPE=image/jpeg:https://eglise-elm.com/wp-content/uploads/2021/08/ELMCAMPUS.jpg
END:VEVENT
BEGIN:VEVENT
DTSTART;TZID=Europe/Paris:20231116T140000
DTEND;TZID=Europe/Paris:20231116T170000
DTSTAMP:20260425T012925
CREATED:20231024T144746Z
LAST-MODIFIED:20231024T144746Z
UID:33556-1700143200-1700154000@eglise-elm.com
SUMMARY:Rencontre des Amandiers (Séniors)
DESCRIPTION:Tous les 3ème jeudi du mois.
URL:https://eglise-elm.com/event/rencontre-des-amandiers-seniors-2/
LOCATION:16 Av. du Molinel\, 16 Avenue du Molinel\, 59290 Wasquehal\, Wasquehal\, 59290\, FR
ATTACH;FMTTYPE=image/jpeg:https://eglise-elm.com/wp-content/uploads/2022/09/AmandiersLOGO.jpg
END:VEVENT
BEGIN:VEVENT
DTSTART;TZID=Europe/Paris:20231116T200000
DTEND;TZID=Europe/Paris:20231116T210000
DTSTAMP:20260425T012925
CREATED:20231024T145043Z
LAST-MODIFIED:20231024T145043Z
UID:33558-1700164800-1700168400@eglise-elm.com
SUMMARY:ELM en questions
DESCRIPTION:Diffusion de l’émission à 20h.
URL:https://eglise-elm.com/event/elm-en-questions-4/
LOCATION:Youtube
ATTACH;FMTTYPE=image/jpeg:https://eglise-elm.com/wp-content/uploads/2023/08/ELM-EN-QUESTIONS.jpg
END:VEVENT
BEGIN:VEVENT
DTSTART;TZID=Europe/Paris:20231118T090000
DTEND;TZID=Europe/Paris:20231118T123000
DTSTAMP:20260425T012925
CREATED:20231024T145629Z
LAST-MODIFIED:20231024T145629Z
UID:33560-1700298000-1700310600@eglise-elm.com
SUMMARY:Formation biblique : Romains
DESCRIPTION:Formation biblique : Romains\navec Sonja HANKE (Salle ados). \nCes cours sont proposés grâce au partenariat avec institut biblique CTS de Bruxelles.
URL:https://eglise-elm.com/event/formation-biblique-romains-2/
LOCATION:ELM Grand bureau\, 16 Avenue du Molinel\, Wasquehal\, 59290\, France
ATTACH;FMTTYPE=image/png:https://eglise-elm.com/wp-content/uploads/2023/10/ELMCAMPUS.png
END:VEVENT
BEGIN:VEVENT
DTSTART;TZID=Europe/Paris:20231118T173000
DTEND;TZID=Europe/Paris:20231118T193000
DTSTAMP:20260425T012925
CREATED:20231024T150020Z
LAST-MODIFIED:20231024T150143Z
UID:33564-1700328600-1700335800@eglise-elm.com
SUMMARY:Jeunesse
DESCRIPTION:Soirée SQUAD / EXPANSION
URL:https://eglise-elm.com/event/jeunesse-3/
LOCATION:ELM – Grande salle\, 16 avenue du Molinel\, WASQUEHAL\, 59290\, France
ATTACH;FMTTYPE=image/jpeg:https://eglise-elm.com/wp-content/uploads/2023/10/SQuadEXPANSION.jpg
END:VEVENT
BEGIN:VEVENT
DTSTART;TZID=Europe/Paris:20231119T100000
DTEND;TZID=Europe/Paris:20231119T120000
DTSTAMP:20260425T012925
CREATED:20231024T150308Z
LAST-MODIFIED:20231024T150325Z
UID:33569-1700388000-1700395200@eglise-elm.com
SUMMARY:Culte
DESCRIPTION:
URL:https://eglise-elm.com/event/culte/
LOCATION:ELM – Grande salle\, 16 avenue du Molinel\, WASQUEHAL\, 59290\, France
ATTACH;FMTTYPE=image/jpeg:https://eglise-elm.com/wp-content/uploads/2023/10/culte.jpg
END:VEVENT
BEGIN:VEVENT
DTSTART;TZID=Europe/Paris:20231123T200000
DTEND;TZID=Europe/Paris:20231123T210000
DTSTAMP:20260425T012925
CREATED:20231024T151932Z
LAST-MODIFIED:20231024T151932Z
UID:33572-1700769600-1700773200@eglise-elm.com
SUMMARY:ELM en Questions
DESCRIPTION:Diffusion de l’émission à 20h.
URL:https://eglise-elm.com/event/elm-en-questions-5/
LOCATION:Youtube
ATTACH;FMTTYPE=image/jpeg:https://eglise-elm.com/wp-content/uploads/2023/08/ELM-EN-QUESTIONS.jpg
END:VEVENT
BEGIN:VEVENT
DTSTART;TZID=Europe/Paris:20231124T200000
DTEND;TZID=Europe/Paris:20231124T223000
DTSTAMP:20260425T012925
CREATED:20231024T152414Z
LAST-MODIFIED:20231024T152414Z
UID:33574-1700856000-1700865000@eglise-elm.com
SUMMARY:Soirée de prière
DESCRIPTION:
URL:https://eglise-elm.com/event/soiree-de-priere-6/
LOCATION:ELM – Grande salle\, 16 avenue du Molinel\, WASQUEHAL\, 59290\, France
ATTACH;FMTTYPE=image/jpeg:https://eglise-elm.com/wp-content/uploads/2023/10/Soireepriere2022-2023.jpg
END:VEVENT
BEGIN:VEVENT
DTSTART;TZID=Europe/Paris:20231125T100000
DTEND;TZID=Europe/Paris:20231125T120000
DTSTAMP:20260425T012925
CREATED:20231024T152652Z
LAST-MODIFIED:20231024T152652Z
UID:33578-1700906400-1700913600@eglise-elm.com
SUMMARY:Distribution alimentaire Entraide & Partage
DESCRIPTION:Distribution alimentaire Entraide et Partage Samedi de 10h à 12h.
URL:https://eglise-elm.com/event/distribution-alimentaire-entraide-partage-2/
LOCATION:ELM – Chapelle\, 16 Avenue du Molinel\, Wasquehal\, 59290\, France
ATTACH;FMTTYPE=image/jpeg:https://eglise-elm.com/wp-content/uploads/2023/10/entraide-et-partage2.jpg
END:VEVENT
BEGIN:VEVENT
DTSTART;TZID=Europe/Paris:20231130T200000
DTEND;TZID=Europe/Paris:20231130T210000
DTSTAMP:20260425T012925
CREATED:20231123T113154Z
LAST-MODIFIED:20231123T113154Z
UID:33715-1701374400-1701378000@eglise-elm.com
SUMMARY:ELM en questions
DESCRIPTION:Emission sur Youtube jeudi 7 décembre à 20h00 \nhttps://www.youtube.com/@Addmetropolelilloise
URL:https://eglise-elm.com/event/elm-en-questions-6/
LOCATION:Youtube
ATTACH;FMTTYPE=image/jpeg:https://eglise-elm.com/wp-content/uploads/2023/08/ELM-EN-QUESTIONS.jpg
END:VEVENT
END:VCALENDAR