BEGIN:VCALENDAR
VERSION:2.0
PRODID:-//Église Lille Métropole - ECPv6.14.0//NONSGML v1.0//EN
CALSCALE:GREGORIAN
METHOD:PUBLISH
X-WR-CALNAME:Église Lille Métropole
X-ORIGINAL-URL:https://eglise-elm.com
X-WR-CALDESC:Évènements pour Église Lille Métropole
REFRESH-INTERVAL;VALUE=DURATION:PT1H
X-Robots-Tag:noindex
X-PUBLISHED-TTL:PT1H
BEGIN:VTIMEZONE
TZID:Europe/Paris
BEGIN:DAYLIGHT
TZOFFSETFROM:+0100
TZOFFSETTO:+0200
TZNAME:CEST
DTSTART:20250330T010000
END:DAYLIGHT
BEGIN:STANDARD
TZOFFSETFROM:+0200
TZOFFSETTO:+0100
TZNAME:CET
DTSTART:20251026T010000
END:STANDARD
END:VTIMEZONE
BEGIN:VEVENT
DTSTART;TZID=Europe/Paris:20250119T090000
DTEND;TZID=Europe/Paris:20250119T110000
DTSTAMP:20260424T142707
CREATED:20241221T114447Z
LAST-MODIFIED:20241221T114447Z
UID:35068-1737277200-1737284400@eglise-elm.com
SUMMARY:Deux Cultes à 9h00 et 11h00
DESCRIPTION:Cultes à 9h00 et à 11h00. \nInscription obligatoire
URL:https://eglise-elm.com/event/deux-cultes-a-9h00-et-11h00/
LOCATION:16 Av. du Molinel\, 16 Avenue du Molinel\, 59290 Wasquehal\, Wasquehal\, 59290\, FR
ATTACH;FMTTYPE=image/jpeg:https://eglise-elm.com/wp-content/uploads/2024/09/CULTE-2.jpg
END:VEVENT
BEGIN:VEVENT
DTSTART;TZID=Europe/Paris:20250119T110000
DTEND;TZID=Europe/Paris:20250119T120000
DTSTAMP:20260424T142707
CREATED:20241221T114016Z
LAST-MODIFIED:20241221T114016Z
UID:35064-1737284400-1737288000@eglise-elm.com
SUMMARY:Préparation au baptême
DESCRIPTION:Début de la prochaine session de préparation au baptême\nSi tu veux te faire baptiser\, tu peux t’inscrire sur le site de l’église\, ou laisser tes coordonnées au point info. \nLa prochaine session commence le dimanche 19 janvier à 11h pendant le culte.
URL:https://eglise-elm.com/event/preparation-au-bapteme/
LOCATION:16 Av. du Molinel\, 16 Avenue du Molinel\, 59290 Wasquehal\, Wasquehal\, 59290\, FR
ATTACH;FMTTYPE=image/jpeg:https://eglise-elm.com/wp-content/uploads/2024/12/bapteme.jpg
END:VEVENT
BEGIN:VEVENT
DTSTART;TZID=Europe/Paris:20250119T160000
DTEND;TZID=Europe/Paris:20250119T190000
DTSTAMP:20260424T142707
CREATED:20241221T105941Z
LAST-MODIFIED:20241221T105941Z
UID:35054-1737302400-1737313200@eglise-elm.com
SUMMARY:Parcours de Croissance II
DESCRIPTION:Début de la deuxième session de cours proposés dans le cadre du Parcours de Croissance\nTous les 15 jours à partir du dimanche 19 janvier\, la deuxième partie du cours sur la gestion émotionnelle selon la Bible. \nL’inscription est nécessaire pour suivre ces cours. Toutes les infos sont sur le site de l’église sous l’onglet “Vie de l’église” dans la rubrique “Nos Formations”.
URL:https://eglise-elm.com/event/parcours-de-croissance-ii/
LOCATION:16 Av. du Molinel\, 16 Avenue du Molinel\, 59290 Wasquehal\, Wasquehal\, 59290\, FR
ATTACH;FMTTYPE=image/jpeg:https://eglise-elm.com/wp-content/uploads/2024/12/cours-et-parcours.jpg
END:VEVENT
END:VCALENDAR