BEGIN:VCALENDAR
VERSION:2.0
PRODID:-//Église Lille Métropole - ECPv6.14.0//NONSGML v1.0//EN
CALSCALE:GREGORIAN
METHOD:PUBLISH
X-WR-CALNAME:Église Lille Métropole
X-ORIGINAL-URL:https://eglise-elm.com
X-WR-CALDESC:Évènements pour Église Lille Métropole
REFRESH-INTERVAL;VALUE=DURATION:PT1H
X-Robots-Tag:noindex
X-PUBLISHED-TTL:PT1H
BEGIN:VTIMEZONE
TZID:Europe/Paris
BEGIN:DAYLIGHT
TZOFFSETFROM:+0100
TZOFFSETTO:+0200
TZNAME:CEST
DTSTART:20250330T010000
END:DAYLIGHT
BEGIN:STANDARD
TZOFFSETFROM:+0200
TZOFFSETTO:+0100
TZNAME:CET
DTSTART:20251026T010000
END:STANDARD
END:VTIMEZONE
BEGIN:VEVENT
DTSTART;TZID=Europe/Paris:20250110T193000
DTEND;TZID=Europe/Paris:20250110T213000
DTSTAMP:20260424T123427
CREATED:20241221T103011Z
LAST-MODIFIED:20241221T103011Z
UID:35038-1736537400-1736544600@eglise-elm.com
SUMMARY:Soirée ENVOL (Jeunes actifs)
DESCRIPTION:Soirée des jeunes ENVOL \nRentrée 2025 \nRestez connectés sur les réseaux Envol pour plus d’informations
URL:https://eglise-elm.com/event/soiree-envol-jeunes-actifs-6/
LOCATION:16 Av. du Molinel\, 16 Avenue du Molinel\, 59290 Wasquehal\, Wasquehal\, 59290\, FR
ATTACH;FMTTYPE=image/jpeg:https://eglise-elm.com/wp-content/uploads/2024/06/envol.jpg
END:VEVENT
END:VCALENDAR