BEGIN:VCALENDAR
VERSION:2.0
PRODID:-//Église Lille Métropole - ECPv6.14.0//NONSGML v1.0//EN
CALSCALE:GREGORIAN
METHOD:PUBLISH
X-WR-CALNAME:Église Lille Métropole
X-ORIGINAL-URL:https://eglise-elm.com
X-WR-CALDESC:Évènements pour Église Lille Métropole
REFRESH-INTERVAL;VALUE=DURATION:PT1H
X-Robots-Tag:noindex
X-PUBLISHED-TTL:PT1H
BEGIN:VTIMEZONE
TZID:Europe/Paris
BEGIN:DAYLIGHT
TZOFFSETFROM:+0100
TZOFFSETTO:+0200
TZNAME:CEST
DTSTART:20250330T010000
END:DAYLIGHT
BEGIN:STANDARD
TZOFFSETFROM:+0200
TZOFFSETTO:+0100
TZNAME:CET
DTSTART:20251026T010000
END:STANDARD
END:VTIMEZONE
BEGIN:VEVENT
DTSTART;TZID=Europe/Paris:20250103T193000
DTEND;TZID=Europe/Paris:20250103T213000
DTSTAMP:20260420T204059
CREATED:20241221T102331Z
LAST-MODIFIED:20241221T102523Z
UID:35036-1735932600-1735939800@eglise-elm.com
SUMMARY:Femmes contemporaines
DESCRIPTION:Soirée de louanges Femmes contemporaines\nRDV pour toutes les femmes de tous les âges le Vendredi 3 janvier à 19h30 à ELM. \nNous allons marquer le début de 2025 avec une soirée adoration toutes ensemble ! Venez nombreuses ! \n  \n 
URL:https://eglise-elm.com/event/femmes-contemporaines-3/
LOCATION:ELM – Grande salle\, 16 avenue du Molinel\, WASQUEHAL\, 59290\, France
ATTACH;FMTTYPE=image/png:https://eglise-elm.com/wp-content/uploads/2023/09/femmes-contemporaines-e1694442493381.png
END:VEVENT
END:VCALENDAR