BEGIN:VCALENDAR
VERSION:2.0
PRODID:-//Église Lille Métropole - ECPv6.14.0//NONSGML v1.0//EN
CALSCALE:GREGORIAN
METHOD:PUBLISH
X-WR-CALNAME:Église Lille Métropole
X-ORIGINAL-URL:https://eglise-elm.com
X-WR-CALDESC:Évènements pour Église Lille Métropole
REFRESH-INTERVAL;VALUE=DURATION:PT1H
X-Robots-Tag:noindex
X-PUBLISHED-TTL:PT1H
BEGIN:VTIMEZONE
TZID:Europe/Paris
BEGIN:DAYLIGHT
TZOFFSETFROM:+0100
TZOFFSETTO:+0200
TZNAME:CEST
DTSTART:20240331T010000
END:DAYLIGHT
BEGIN:STANDARD
TZOFFSETFROM:+0200
TZOFFSETTO:+0100
TZNAME:CET
DTSTART:20241027T010000
END:STANDARD
END:VTIMEZONE
BEGIN:VEVENT
DTSTART;TZID=Europe/Paris:20241110T090000
DTEND;TZID=Europe/Paris:20241110T123000
DTSTAMP:20260420T192017
CREATED:20241021T092853Z
LAST-MODIFIED:20241021T093000Z
UID:34871-1731229200-1731241800@eglise-elm.com
SUMMARY:Deux cultes 9h et 11h avec baptêmes
DESCRIPTION:Inscription obligatoire \nRencontre Teenfire à 11h00.
URL:https://eglise-elm.com/event/deux-cultes-9h-et-11h-avec-baptemes/
LOCATION:16 Av. du Molinel\, 16 Avenue du Molinel\, 59290 Wasquehal\, Wasquehal\, 59290\, FR
ATTACH;FMTTYPE=image/png:https://eglise-elm.com/wp-content/uploads/2024/06/baptemes-2-cultes.png
END:VEVENT
END:VCALENDAR