BEGIN:VCALENDAR
VERSION:2.0
PRODID:-//Église Lille Métropole - ECPv6.14.0//NONSGML v1.0//EN
CALSCALE:GREGORIAN
METHOD:PUBLISH
X-WR-CALNAME:Église Lille Métropole
X-ORIGINAL-URL:https://eglise-elm.com
X-WR-CALDESC:Évènements pour Église Lille Métropole
REFRESH-INTERVAL;VALUE=DURATION:PT1H
X-Robots-Tag:noindex
X-PUBLISHED-TTL:PT1H
BEGIN:VTIMEZONE
TZID:Europe/Paris
BEGIN:DAYLIGHT
TZOFFSETFROM:+0100
TZOFFSETTO:+0200
TZNAME:CEST
DTSTART:20240331T010000
END:DAYLIGHT
BEGIN:STANDARD
TZOFFSETFROM:+0200
TZOFFSETTO:+0100
TZNAME:CET
DTSTART:20241027T010000
END:STANDARD
END:VTIMEZONE
BEGIN:VEVENT
DTSTART;TZID=Europe/Paris:20241026T100000
DTEND;TZID=Europe/Paris:20241027T140000
DTSTAMP:20260420T180601
CREATED:20241021T102441Z
LAST-MODIFIED:20241022T090123Z
UID:34902-1729936800-1730037600@eglise-elm.com
SUMMARY:ENTRAIDE ET PARTAGE
DESCRIPTION:Marché des solidarités – VESTIAIRE SOLIDAIRE
URL:https://eglise-elm.com/event/entraide-et-partage/
LOCATION:Salle Pierre Herman à Wasquehal\, 5 rue jean Macé\, Wasquehal\, France
ATTACH;FMTTYPE=image/png:https://eglise-elm.com/wp-content/uploads/2024/10/marche-des-solidarites-1.png
END:VEVENT
BEGIN:VEVENT
DTSTART;TZID=Europe/Paris:20241027T090000
DTEND;TZID=Europe/Paris:20241027T123000
DTSTAMP:20260420T180601
CREATED:20240922T161436Z
LAST-MODIFIED:20241021T082518Z
UID:34782-1730019600-1730032200@eglise-elm.com
SUMMARY:Deux cultes 9h et 11h
DESCRIPTION:Inscription obligatoire \nAccueil Teenfire (ados 14-17 ans) à 12h30.
URL:https://eglise-elm.com/event/deux-cultes-9h-et-11h-5/
LOCATION:16 Av. du Molinel\, 16 Avenue du Molinel\, 59290 Wasquehal\, Wasquehal\, 59290\, FR
ATTACH;FMTTYPE=image/jpeg:https://eglise-elm.com/wp-content/uploads/2024/08/culte.jpg
END:VEVENT
END:VCALENDAR