BEGIN:VCALENDAR
VERSION:2.0
PRODID:-//Église Lille Métropole - ECPv6.14.0//NONSGML v1.0//EN
CALSCALE:GREGORIAN
METHOD:PUBLISH
X-ORIGINAL-URL:https://eglise-elm.com
X-WR-CALDESC:Évènements pour Église Lille Métropole
REFRESH-INTERVAL;VALUE=DURATION:PT1H
X-Robots-Tag:noindex
X-PUBLISHED-TTL:PT1H
BEGIN:VTIMEZONE
TZID:Europe/Paris
BEGIN:DAYLIGHT
TZOFFSETFROM:+0100
TZOFFSETTO:+0200
TZNAME:CEST
DTSTART:20240331T010000
END:DAYLIGHT
BEGIN:STANDARD
TZOFFSETFROM:+0200
TZOFFSETTO:+0100
TZNAME:CET
DTSTART:20241027T010000
END:STANDARD
END:VTIMEZONE
BEGIN:VEVENT
DTSTART;TZID=Europe/Paris:20240609T090000
DTEND;TZID=Europe/Paris:20240609T130000
DTSTAMP:20260420T122553
CREATED:20240606T085958Z
LAST-MODIFIED:20240606T090534Z
UID:34448-1717923600-1717938000@eglise-elm.com
SUMMARY:Cultes à 9h et 11h
DESCRIPTION:Deux cultes avec Jean-Marc Potenti\, pasteur. \n  \nA l’issue des cultes\, présentation du dernier livre de Daniel Pottier.
URL:https://eglise-elm.com/event/cultes-a-9h-et-11h/
LOCATION:16 Av. du Molinel\, 16 Avenue du Molinel\, 59290 Wasquehal\, Wasquehal\, 59290\, FR
ATTACH;FMTTYPE=image/jpeg:https://eglise-elm.com/wp-content/uploads/2024/06/JM-Potenti-pasteur.jpg
END:VEVENT
END:VCALENDAR