BEGIN:VCALENDAR
VERSION:2.0
PRODID:-//Église Lille Métropole - ECPv6.14.0//NONSGML v1.0//EN
CALSCALE:GREGORIAN
METHOD:PUBLISH
X-ORIGINAL-URL:https://eglise-elm.com
X-WR-CALDESC:Évènements pour Église Lille Métropole
REFRESH-INTERVAL;VALUE=DURATION:PT1H
X-Robots-Tag:noindex
X-PUBLISHED-TTL:PT1H
BEGIN:VTIMEZONE
TZID:Europe/Paris
BEGIN:DAYLIGHT
TZOFFSETFROM:+0100
TZOFFSETTO:+0200
TZNAME:CEST
DTSTART:20240331T010000
END:DAYLIGHT
BEGIN:STANDARD
TZOFFSETFROM:+0200
TZOFFSETTO:+0100
TZNAME:CET
DTSTART:20241027T010000
END:STANDARD
END:VTIMEZONE
BEGIN:VEVENT
DTSTART;TZID=Europe/Paris:20240605T193000
DTEND;TZID=Europe/Paris:20240605T193000
DTSTAMP:20260420T122425
CREATED:20240606T084852Z
LAST-MODIFIED:20240606T084852Z
UID:34440-1717615800-1717615800@eglise-elm.com
SUMMARY:Nouvelle émission Cartes sur table
DESCRIPTION:Voir ou revoir à 19h30 sur notre chaîne Youtube \nEglise : bloc de pierres ou pierres vivantes ?
URL:https://eglise-elm.com/event/nouvelle-emission-cartes-sur-table/
LOCATION:Youtube
ATTACH;FMTTYPE=image/jpeg:https://eglise-elm.com/wp-content/uploads/2024/06/cartes-sur-table.jpg
END:VEVENT
END:VCALENDAR