BEGIN:VCALENDAR
VERSION:2.0
PRODID:-//Église Lille Métropole - ECPv6.14.0//NONSGML v1.0//EN
CALSCALE:GREGORIAN
METHOD:PUBLISH
X-ORIGINAL-URL:https://eglise-elm.com
X-WR-CALDESC:Évènements pour Église Lille Métropole
REFRESH-INTERVAL;VALUE=DURATION:PT1H
X-Robots-Tag:noindex
X-PUBLISHED-TTL:PT1H
BEGIN:VTIMEZONE
TZID:Europe/Paris
BEGIN:DAYLIGHT
TZOFFSETFROM:+0100
TZOFFSETTO:+0200
TZNAME:CEST
DTSTART:20240331T010000
END:DAYLIGHT
BEGIN:STANDARD
TZOFFSETFROM:+0200
TZOFFSETTO:+0100
TZNAME:CET
DTSTART:20241027T010000
END:STANDARD
END:VTIMEZONE
BEGIN:VEVENT
DTSTART;TZID=Europe/Paris:20240510T193000
DTEND;TZID=Europe/Paris:20240510T210000
DTSTAMP:20260420T122530
CREATED:20240418T143623Z
LAST-MODIFIED:20240418T143623Z
UID:34391-1715369400-1715374800@eglise-elm.com
SUMMARY:Femme Contemporaine
DESCRIPTION:Soirée Femme Contemporaine à 19h30 à ELM.
URL:https://eglise-elm.com/event/femme-contemporaine-4/
LOCATION:16 Av. du Molinel\, 16 Avenue du Molinel\, 59290 Wasquehal\, Wasquehal\, 59290\, FR
ATTACH;FMTTYPE=image/png:https://eglise-elm.com/wp-content/uploads/2023/08/femmes-contemporaines.png
END:VEVENT
END:VCALENDAR