BEGIN:VCALENDAR
VERSION:2.0
PRODID:-//Église Lille Métropole - ECPv6.14.0//NONSGML v1.0//EN
CALSCALE:GREGORIAN
METHOD:PUBLISH
X-ORIGINAL-URL:https://eglise-elm.com
X-WR-CALDESC:Évènements pour Église Lille Métropole
REFRESH-INTERVAL;VALUE=DURATION:PT1H
X-Robots-Tag:noindex
X-PUBLISHED-TTL:PT1H
BEGIN:VTIMEZONE
TZID:Europe/Paris
BEGIN:DAYLIGHT
TZOFFSETFROM:+0100
TZOFFSETTO:+0200
TZNAME:CEST
DTSTART:20240331T010000
END:DAYLIGHT
BEGIN:STANDARD
TZOFFSETFROM:+0200
TZOFFSETTO:+0100
TZNAME:CET
DTSTART:20241027T010000
END:STANDARD
END:VTIMEZONE
BEGIN:VEVENT
DTSTART;TZID=Europe/Paris:20240107T100000
DTEND;TZID=Europe/Paris:20240107T120000
DTSTAMP:20260424T215347
CREATED:20231207T100342Z
LAST-MODIFIED:20240105T134647Z
UID:33818-1704621600-1704628800@eglise-elm.com
SUMMARY:Culte
DESCRIPTION:Culte avec Sainte Cène \nReprise des Tribus (enfants de 0 à 10 ans) \nReprise des Ados (12h Grand Bureau)
URL:https://eglise-elm.com/event/culte-5/
LOCATION:ELM – Grande salle\, 16 avenue du Molinel\, WASQUEHAL\, 59290\, France
ATTACH;FMTTYPE=image/jpeg:https://eglise-elm.com/wp-content/uploads/2023/12/lords-supper-1280x857-1.jpg
END:VEVENT
END:VCALENDAR