BEGIN:VCALENDAR
VERSION:2.0
PRODID:-//Église Lille Métropole - ECPv6.14.0//NONSGML v1.0//EN
CALSCALE:GREGORIAN
METHOD:PUBLISH
X-WR-CALNAME:Église Lille Métropole
X-ORIGINAL-URL:https://eglise-elm.com
X-WR-CALDESC:Évènements pour Église Lille Métropole
REFRESH-INTERVAL;VALUE=DURATION:PT1H
X-Robots-Tag:noindex
X-PUBLISHED-TTL:PT1H
BEGIN:VTIMEZONE
TZID:Europe/Paris
BEGIN:DAYLIGHT
TZOFFSETFROM:+0100
TZOFFSETTO:+0200
TZNAME:CEST
DTSTART:20230326T010000
END:DAYLIGHT
BEGIN:STANDARD
TZOFFSETFROM:+0200
TZOFFSETTO:+0100
TZNAME:CET
DTSTART:20231029T010000
END:STANDARD
END:VTIMEZONE
BEGIN:VEVENT
DTSTART;TZID=Europe/Paris:20231231T100000
DTEND;TZID=Europe/Paris:20231231T123000
DTSTAMP:20260425T030623
CREATED:20231123T141559Z
LAST-MODIFIED:20231207T094253Z
UID:33772-1704016800-1704025800@eglise-elm.com
SUMMARY:Dernier Culte de l'année
DESCRIPTION:Culte spécial avec instruments classiques. \nPas de Tribus.
URL:https://eglise-elm.com/event/dernier-culte-de-lannee/
LOCATION:ELM – Grande salle\, 16 avenue du Molinel\, WASQUEHAL\, 59290\, France
ATTACH;FMTTYPE=image/jpeg:https://eglise-elm.com/wp-content/uploads/2023/11/ai-genere-bonne-annee-2024-scaled.jpg
END:VEVENT
END:VCALENDAR