BEGIN:VCALENDAR
VERSION:2.0
PRODID:-//Église Lille Métropole - ECPv6.14.0//NONSGML v1.0//EN
CALSCALE:GREGORIAN
METHOD:PUBLISH
X-WR-CALNAME:Église Lille Métropole
X-ORIGINAL-URL:https://eglise-elm.com
X-WR-CALDESC:Évènements pour Église Lille Métropole
REFRESH-INTERVAL;VALUE=DURATION:PT1H
X-Robots-Tag:noindex
X-PUBLISHED-TTL:PT1H
BEGIN:VTIMEZONE
TZID:Europe/Paris
BEGIN:DAYLIGHT
TZOFFSETFROM:+0100
TZOFFSETTO:+0200
TZNAME:CEST
DTSTART:20230326T010000
END:DAYLIGHT
BEGIN:STANDARD
TZOFFSETFROM:+0200
TZOFFSETTO:+0100
TZNAME:CET
DTSTART:20231029T010000
END:STANDARD
END:VTIMEZONE
BEGIN:VEVENT
DTSTART;TZID=Europe/Paris:20231209T170000
DTEND;TZID=Europe/Paris:20231209T190000
DTSTAMP:20260425T012919
CREATED:20231123T114231Z
LAST-MODIFIED:20231125T215555Z
UID:33721-1702141200-1702148400@eglise-elm.com
SUMMARY:Noël en Couleurs
DESCRIPTION:Evénement spécial destiné aux familles en situation difficile.\nEncore deux moyens de nous aider :\n– en ramenant un gâteau le matin de l’événement\n– en offrant un colis à une famille en difficulté (valeur 10€) \nUn « grand merci » aux nombreux bénévoles inscrits pour aider lors de cet événement. \n  \nPour s’inscrire à Noël en couleur\, cliquer ici
URL:https://eglise-elm.com/event/noel-en-couleurs/
LOCATION:ELM – Grande salle\, 16 avenue du Molinel\, WASQUEHAL\, 59290\, France
ATTACH;FMTTYPE=image/png:https://eglise-elm.com/wp-content/uploads/2023/11/Noel-en-C-2023-2-copie.png
END:VEVENT
END:VCALENDAR