BEGIN:VCALENDAR
VERSION:2.0
PRODID:-//Église Lille Métropole - ECPv6.14.0//NONSGML v1.0//EN
CALSCALE:GREGORIAN
METHOD:PUBLISH
X-ORIGINAL-URL:https://eglise-elm.com
X-WR-CALDESC:Évènements pour Église Lille Métropole
REFRESH-INTERVAL;VALUE=DURATION:PT1H
X-Robots-Tag:noindex
X-PUBLISHED-TTL:PT1H
BEGIN:VTIMEZONE
TZID:Europe/Paris
BEGIN:DAYLIGHT
TZOFFSETFROM:+0100
TZOFFSETTO:+0200
TZNAME:CEST
DTSTART:20230326T010000
END:DAYLIGHT
BEGIN:STANDARD
TZOFFSETFROM:+0200
TZOFFSETTO:+0100
TZNAME:CET
DTSTART:20231029T010000
END:STANDARD
END:VTIMEZONE
BEGIN:VEVENT
DTSTART;TZID=Europe/Paris:20231207T080000
DTEND;TZID=Europe/Paris:20231207T170000
DTSTAMP:20260424T234621
CREATED:20231207T100009Z
LAST-MODIFIED:20231207T100009Z
UID:33814-1701936000-1701968400@eglise-elm.com
SUMMARY:Culte
DESCRIPTION:Culte avec Sainte Cène \nReprise des Tribus à 10h \nReprise des Ados 12h (Grand Bureau)
URL:https://eglise-elm.com/event/culte-4/
ATTACH;FMTTYPE=image/jpeg:https://eglise-elm.com/wp-content/uploads/2023/12/lords-supper-1280x857-1.jpg
END:VEVENT
BEGIN:VEVENT
DTSTART;TZID=Europe/Paris:20231207T200000
DTEND;TZID=Europe/Paris:20231207T210000
DTSTAMP:20260424T234621
CREATED:20231123T113300Z
LAST-MODIFIED:20231123T113300Z
UID:33717-1701979200-1701982800@eglise-elm.com
SUMMARY:ELM en questions
DESCRIPTION:Emission sur Youtube jeudi 7 décembre à 20h00 \nhttps://www.youtube.com/@Addmetropolelilloise
URL:https://eglise-elm.com/event/elm-en-questions-7/
LOCATION:Youtube
ATTACH;FMTTYPE=image/jpeg:https://eglise-elm.com/wp-content/uploads/2023/08/ELM-EN-QUESTIONS.jpg
END:VEVENT
END:VCALENDAR