BEGIN:VCALENDAR
VERSION:2.0
PRODID:-//Église Lille Métropole - ECPv6.14.0//NONSGML v1.0//EN
CALSCALE:GREGORIAN
METHOD:PUBLISH
X-WR-CALNAME:Église Lille Métropole
X-ORIGINAL-URL:https://eglise-elm.com
X-WR-CALDESC:Évènements pour Église Lille Métropole
REFRESH-INTERVAL;VALUE=DURATION:PT1H
X-Robots-Tag:noindex
X-PUBLISHED-TTL:PT1H
BEGIN:VTIMEZONE
TZID:Europe/Paris
BEGIN:DAYLIGHT
TZOFFSETFROM:+0100
TZOFFSETTO:+0200
TZNAME:CEST
DTSTART:20230326T010000
END:DAYLIGHT
BEGIN:STANDARD
TZOFFSETFROM:+0200
TZOFFSETTO:+0100
TZNAME:CET
DTSTART:20231029T010000
END:STANDARD
END:VTIMEZONE
BEGIN:VEVENT
DTSTART;TZID=Europe/Paris:20231203T100000
DTEND;TZID=Europe/Paris:20231203T120000
DTSTAMP:20260425T000407
CREATED:20231123T113511Z
LAST-MODIFIED:20231125T221504Z
UID:33719-1701597600-1701604800@eglise-elm.com
SUMMARY:Offrande de reconnaissance
DESCRIPTION:L’année 2023 arrive à son terme. Nous vous invitons à considérer combien Dieu a été fidèle et a agi dans notre vie au cours des douze derniers mois. C’est aussi l’occasion d’être reconnaissant envers Dieu pour sa présence et pour son action !  Et pourquoi pas faire un acte d’adoration et de foi en faisant une offrande de reconnaissance ?\n\n\n\n”À la fin de l’année\, tu nous couvres encore de bienfaits. Quand tu passes\, les richesses débordent.” Psaume 65.12 (Bible “Parole de Vie”)\n\n\n\nVous pouvez faire votre offrande de reconnaissance en ligne (cliquer ici)\, par un virement\, par un don en espèces ou par chèque (troncs disponibles en sortant à la fin des cultes).\nSachez que vos dons (hors espèces) sont déductibles des impôts en France et vous recevrez un reçu fiscal si vous nous laissez vos coordonnées. Si vous souhaitez que cela compte pour l’année 2023\, merci de faire votre règlement avant le 31 décembre 2023.\n 
URL:https://eglise-elm.com/event/culte-2/
LOCATION:ELM – Grande salle\, 16 avenue du Molinel\, WASQUEHAL\, 59290\, France
ATTACH;FMTTYPE=image/jpeg:https://eglise-elm.com/wp-content/uploads/2023/11/femme-faisant-coeur-au-coucher-du-soleil-scaled.jpg
END:VEVENT
END:VCALENDAR